BEGIN:VCALENDAR
VERSION:2.0
PRODID:-//Kehilat Ohr Chadash - ECPv6.15.10//NONSGML v1.0//EN
CALSCALE:GREGORIAN
METHOD:PUBLISH
X-WR-CALNAME:Kehilat Ohr Chadash
X-ORIGINAL-URL:http://ohrchadash.com
X-WR-CALDESC:Events for Kehilat Ohr Chadash
REFRESH-INTERVAL;VALUE=DURATION:PT1H
X-Robots-Tag:noindex
X-PUBLISHED-TTL:PT1H
BEGIN:VTIMEZONE
TZID:Europe/Moscow
BEGIN:STANDARD
TZOFFSETFROM:+0300
TZOFFSETTO:+0300
TZNAME:MSK
DTSTART:20200101T000000
END:STANDARD
END:VTIMEZONE
BEGIN:VEVENT
DTSTART;TZID=Europe/Moscow:20230204T103000
DTEND;TZID=Europe/Moscow:20230204T104500
DTSTAMP:20260423T174235
CREATED:20230122T144108Z
LAST-MODIFIED:20230122T144206Z
UID:2349-1675506600-1675507500@ohrchadash.com
SUMMARY:WEEKLY DVAY HALACHAH
DESCRIPTION:
URL:http://ohrchadash.com/calendar-event/weekly-dvay-halachah/
END:VEVENT
BEGIN:VEVENT
DTSTART;TZID=Europe/Moscow:20230128T103000
DTEND;TZID=Europe/Moscow:20230128T104500
DTSTAMP:20260423T174235
CREATED:20230122T144311Z
LAST-MODIFIED:20230122T144337Z
UID:2352-1674901800-1674902700@ohrchadash.com
SUMMARY:WEEKLY DVAR HALACHAH
DESCRIPTION:
URL:http://ohrchadash.com/calendar-event/weekly-dvar-halachah/
END:VEVENT
BEGIN:VEVENT
DTSTART;TZID=Europe/Moscow:20230128T100000
DTEND;TZID=Europe/Moscow:20230128T104500
DTSTAMP:20260423T174235
CREATED:20230122T164741Z
LAST-MODIFIED:20230122T164741Z
UID:2365-1674900000-1674902700@ohrchadash.com
SUMMARY:Shabbos morning kids programme
DESCRIPTION:
URL:http://ohrchadash.com/calendar-event/shabbos-morning-kids-programme/
END:VEVENT
BEGIN:VEVENT
DTSTART;TZID=Europe/Moscow:20230123T201500
DTEND;TZID=Europe/Moscow:20230123T211500
DTSTAMP:20260423T174235
CREATED:20230122T143700Z
LAST-MODIFIED:20230122T143806Z
UID:2346-1674504900-1674508500@ohrchadash.com
SUMMARY:Women's Halachah
DESCRIPTION:
URL:http://ohrchadash.com/calendar-event/womens-halachah/
END:VEVENT
BEGIN:VEVENT
DTSTART;TZID=Europe/Moscow:20230122T203000
DTEND;TZID=Europe/Moscow:20230122T213000
DTSTAMP:20260423T174235
CREATED:20211011T094833Z
LAST-MODIFIED:20230122T142752Z
UID:2195-1674419400-1674423000@ohrchadash.com
SUMMARY:Semichas Chaver Programme
DESCRIPTION:
URL:http://ohrchadash.com/calendar-event/semichas-chaver-programme/
LOCATION:Beit Aharon – Beit Midrash\, Opposite 90 Derech Hachoresh\, Jerusalem\, Israel
END:VEVENT
BEGIN:VEVENT
DTSTART;TZID=Europe/Moscow:20210925T200000
DTEND;TZID=Europe/Moscow:20210925T230000
DTSTAMP:20260423T174235
CREATED:20210917T072441Z
LAST-MODIFIED:20210917T072441Z
UID:2171-1632600000-1632610800@ohrchadash.com
SUMMARY:Family Event - Simchas Beis Hashoeva
DESCRIPTION:Live Music\, Food and More
URL:http://ohrchadash.com/calendar-event/family-event-simchas-beis-hashoeva/
LOCATION:Beit Aharon Simcha Hall\, Opposite 90 Derech Hachoresh\, Jerusalem\, Israel
END:VEVENT
BEGIN:VEVENT
DTSTART;TZID=Europe/Moscow:20210922T080000
DTEND;TZID=Europe/Moscow:20210922T110000
DTSTAMP:20260423T174235
CREATED:20210917T051337Z
LAST-MODIFIED:20210917T051337Z
UID:2169-1632297600-1632308400@ohrchadash.com
SUMMARY:Musical Hallel
DESCRIPTION:First day Chol Hamoed morning Davening with Musical Hallel.
URL:http://ohrchadash.com/calendar-event/musical-hallel/
LOCATION:Beit Aharon Simcha Hall\, Opposite 90 Derech Hachoresh\, Jerusalem\, Israel
END:VEVENT
BEGIN:VEVENT
DTSTART;TZID=Europe/Moscow:20210921T210000
DTEND;TZID=Europe/Moscow:20210921T233000
DTSTAMP:20260423T174235
CREATED:20210920T113524Z
LAST-MODIFIED:20210920T113732Z
UID:2167-1632258000-1632267000@ohrchadash.com
SUMMARY:Men's Simchas Beis Hashoeva
DESCRIPTION:Ohr Chadash Mens’/Boys’ Simchat Beit Hasho’eva\n@Thwaites Sukkah\, 46 Derech Hachoresh\, from 9pm until late.\nEveryone invited to please bring along food\, drink (BYOB!)\, Divrei Torah and musical instruments.\nRabbi Adlerstein will speak at around 1015pm.\nAll Very Welcome!!!
URL:http://ohrchadash.com/calendar-event/mens-simchas-beis-hashoeva/
END:VEVENT
BEGIN:VEVENT
DTSTART;TZID=Europe/Moscow:20210918T104500
DTEND;TZID=Europe/Moscow:20210918T120000
DTSTAMP:20260423T174235
CREATED:20210917T050938Z
LAST-MODIFIED:20210917T072837Z
UID:2162-1631961900-1631966400@ohrchadash.com
SUMMARY:Welcome Kiddush
DESCRIPTION:Welcoming all new members of the Ramot community
URL:http://ohrchadash.com/calendar-event/welcome-kiddush/
LOCATION:Beit Aharon Simcha Hall\, Opposite 90 Derech Hachoresh\, Jerusalem\, Israel
END:VEVENT
END:VCALENDAR